
BEGIN:VCALENDAR
VERSION:2.0
PRODID:-//hacksw/handcal//NONSGML v1.0//EN
CALSCALE:GREGORIAN
BEGIN:VEVENT
DTEND:20251103T160000Z
UID:4d58b308db1ddbd5bfc58093463503f0
DTSTAMP:1776971254
LOCATION:This course will take place online, via Zoom.
DESCRIPTION:This course will take place online, via Zoom.
URL;VALUE=URI:https://www.ascentgroup.eu/en/evenimente/ai-powered-project-management-online-training-english/
SUMMARY:AI-powered Project Management (Online Training &#8211; English)
DTSTART:20251103T100000Z
END:VEVENT
END:VCALENDAR