
BEGIN:VCALENDAR
VERSION:2.0
PRODID:-//hacksw/handcal//NONSGML v1.0//EN
CALSCALE:GREGORIAN
BEGIN:VEVENT
DTEND:20210302T160000Z
UID:953a565742d5fb7733740908d93e7feb
DTSTAMP:1776971424
LOCATION:Acest curs se va derula prin intermediul platformei Zoom.
DESCRIPTION:Acest curs se va derula prin intermediul platformei Zoom.
URL;VALUE=URI:https://www.ascentgroup.eu/en/evenimente/comunicare-si-managementul-conflictelor-online-training-copy/
SUMMARY:Communication and conflict management &#8211; <br> Online training
DTSTART:20210302T100000Z
END:VEVENT
END:VCALENDAR