
BEGIN:VCALENDAR
VERSION:2.0
PRODID:-//hacksw/handcal//NONSGML v1.0//EN
CALSCALE:GREGORIAN
BEGIN:VEVENT
DTEND:20250516T160000Z
UID:54c6a5b5041ab09fb694fbc8c63b1de7
DTSTAMP:1776971373
LOCATION:Ascent Group, str. Dornei, nr. 62 A, Arad
DESCRIPTION:Ascent Group, str. Dornei, nr. 62 A, Arad
URL;VALUE=URI:https://www.ascentgroup.eu/en/evenimente/hr-reinventat-tendinte-transformare-conexiune/
SUMMARY:HR ReInventat. Tendințe. Transformare. Conexiune.
DTSTART:20250516T100000Z
END:VEVENT
END:VCALENDAR