
BEGIN:VCALENDAR
VERSION:2.0
PRODID:-//hacksw/handcal//NONSGML v1.0//EN
CALSCALE:GREGORIAN
BEGIN:VEVENT
DTEND:20251111T160000Z
UID:24b6b5428e35df8ab0963344db7c3c3d
DTSTAMP:1776853133
LOCATION:Ibis Styles, str. Aurel Vlaicu 306, Arad 310375
DESCRIPTION:Ibis Styles, str. Aurel Vlaicu 306, Arad 310375
URL;VALUE=URI:https://www.ascentgroup.eu/en/evenimente/hrevolution-conference-2nd-edition-arad-november-11-2025/
SUMMARY:HRevolution Conference &#8211; 2nd edition &#8211; Arad, November 11 2025
DTSTART:20251111T100000Z
END:VEVENT
END:VCALENDAR