
BEGIN:VCALENDAR
VERSION:2.0
PRODID:-//hacksw/handcal//NONSGML v1.0//EN
CALSCALE:GREGORIAN
BEGIN:VEVENT
DTEND:20210121T160000Z
UID:ab65ae4d341e9ab266eb6c19e54fc0e7
DTSTAMP:1776972086
LOCATION:Acest curs se va derula prin intermediul platformei Zoom.
DESCRIPTION:Acest curs se va derula prin intermediul platformei Zoom.
URL;VALUE=URI:https://www.ascentgroup.eu/en/evenimente/motivating-teams-in-virtual-collaboration-fast-track-online-training/
SUMMARY:Motivating teams in virtual collaboration &#8211; <br>Fast Track Online Training
DTSTART:20210121T100000Z
END:VEVENT
END:VCALENDAR