
BEGIN:VCALENDAR
VERSION:2.0
PRODID:-//hacksw/handcal//NONSGML v1.0//EN
CALSCALE:GREGORIAN
BEGIN:VEVENT
DTEND:20231024T160000Z
UID:8e271a254642f3ea99b7193dbde48c08
DTSTAMP:1776976262
LOCATION:This training will take place in Timișoara, at \"Casa Calfelor\" Kolping
DESCRIPTION:This training will take place in Timișoara, at \"Casa Calfelor\" Kolping
URL;VALUE=URI:https://www.ascentgroup.eu/en/evenimente/systems-thinking-open-training-timisoara/
SUMMARY:Systems Thinking &#8211; open training, Timișoara
DTSTART:20231024T100000Z
END:VEVENT
END:VCALENDAR