
BEGIN:VCALENDAR
VERSION:2.0
PRODID:-//hacksw/handcal//NONSGML v1.0//EN
CALSCALE:GREGORIAN
BEGIN:VEVENT
DTEND:20251014T160000Z
UID:7f818ed1b4b17873c6ff0d58d646d265
DTSTAMP:1776966387
LOCATION:Acest curs se va derula online, prin platforma Zoom.
DESCRIPTION:Acest curs se va derula online, prin platforma Zoom.
URL;VALUE=URI:https://www.ascentgroup.eu/evenimente/ai-powered-project-management-online-training-romanian/
SUMMARY:AI-powered Project Management (Online training &#8211; Romanian)
DTSTART:20251014T100000Z
END:VEVENT
END:VCALENDAR