
BEGIN:VCALENDAR
VERSION:2.0
PRODID:-//hacksw/handcal//NONSGML v1.0//EN
CALSCALE:GREGORIAN
BEGIN:VEVENT
DTEND:20241205T160000Z
UID:538203aa0e80361f5505802e032a2e70
DTSTAMP:1776966213
LOCATION:This training will take place in Bucharest, at Mezanin (Beans & Dots).
DESCRIPTION:This training will take place in Bucharest, at Mezanin (Beans & Dots).
URL;VALUE=URI:https://www.ascentgroup.eu/evenimente/systems-thinking-open-training-bucuresti/
SUMMARY:Systems Thinking &#8211; open training, București
DTSTART:20241205T100000Z
END:VEVENT
END:VCALENDAR