
BEGIN:VCALENDAR
VERSION:2.0
PRODID:-//hacksw/handcal//NONSGML v1.0//EN
CALSCALE:GREGORIAN
BEGIN:VEVENT
DTEND:20260514T160000Z
UID:68752dacf69110aa023dfcc74f7d36b8
DTSTAMP:1776863269
LOCATION:Acest curs se va derula online, prin platforma Zoom.
DESCRIPTION:Acest curs se va derula online, prin platforma Zoom.
URL;VALUE=URI:https://www.ascentgroup.eu/uk/evenimente/ai-foundations-course/
SUMMARY:AI Foundations Training
DTSTART:20260514T100000Z
END:VEVENT
END:VCALENDAR