
BEGIN:VCALENDAR
VERSION:2.0
PRODID:-//hacksw/handcal//NONSGML v1.0//EN
CALSCALE:GREGORIAN
BEGIN:VEVENT
DTEND:20260126T160000Z
UID:82f7239cf2e5f4d33c1f0aceb4a05379
DTSTAMP:1776981547
LOCATION:Acest curs se va derula online, prin intermediul platformei Zoom.
DESCRIPTION:Acest curs se va derula online, prin intermediul platformei Zoom.
URL;VALUE=URI:https://www.ascentgroup.eu/uk/evenimente/first-time-manager-open-training-online/
SUMMARY:First Time Manager &#8211; open training, online
DTSTART:20260126T100000Z
END:VEVENT
END:VCALENDAR