
BEGIN:VCALENDAR
VERSION:2.0
PRODID:-//hacksw/handcal//NONSGML v1.0//EN
CALSCALE:GREGORIAN
BEGIN:VEVENT
DTEND:20251111T160000Z
UID:7d0b9f4ba59fe0e70789d726a7d80779
DTSTAMP:1776858525
LOCATION:Ibis Styles, str. Aurel Vlaicu 306, Arad 310375
DESCRIPTION:Ibis Styles, str. Aurel Vlaicu 306, Arad 310375
URL;VALUE=URI:https://www.ascentgroup.eu/uk/evenimente/hrevolution-conference-arad-11-noiembrie-2025/
SUMMARY:HRevolution Conference &#8211; ediția 2 &#8211; Arad, 11 noiembrie 2025
DTSTART:20251111T100000Z
END:VEVENT
END:VCALENDAR