
BEGIN:VCALENDAR
VERSION:2.0
PRODID:-//hacksw/handcal//NONSGML v1.0//EN
CALSCALE:GREGORIAN
BEGIN:VEVENT
DTEND:20241105T160000Z
UID:3f0c632a72bf3ff134607f72e157d77d
DTSTAMP:1776972162
LOCATION:Ibis Styles, str. Aurel Vlaicu 306, Arad 310375
DESCRIPTION:Ibis Styles, str. Aurel Vlaicu 306, Arad 310375
URL;VALUE=URI:https://www.ascentgroup.eu/uk/evenimente/hrevolution-conference-editia-1-arad-5-noiembrie-2024/
SUMMARY:HRevolution Conference &#8211; ediția 1 &#8211; Arad, 5 noiembrie 2024
DTSTART:20241105T100000Z
END:VEVENT
END:VCALENDAR