
BEGIN:VCALENDAR
VERSION:2.0
PRODID:-//hacksw/handcal//NONSGML v1.0//EN
CALSCALE:GREGORIAN
BEGIN:VEVENT
DTEND:20210121T160000Z
UID:c4f93b4ead9f9224e73854f61e629972
DTSTAMP:1776971906
LOCATION:Acest curs se va derula prin intermediul platformei Zoom.
DESCRIPTION:Acest curs se va derula prin intermediul platformei Zoom.
URL;VALUE=URI:https://www.ascentgroup.eu/uk/evenimente/motivarea-echipelor-in-colaborarea-virtuala-fast-track-online-training/
SUMMARY:Motivarea echipelor în colaborarea virtuală &#8211; <br>Fast Track Online Training
DTSTART:20210121T100000Z
END:VEVENT
END:VCALENDAR